BEGIN:VCALENDAR
VERSION:2.0
PRODID:-//Motion + Power Manufacturers Alliance™ - ECPv6.15.18//NONSGML v1.0//EN
CALSCALE:GREGORIAN
METHOD:PUBLISH
X-WR-CALNAME:Motion + Power Manufacturers Alliance™
X-ORIGINAL-URL:https://motionpower.org
X-WR-CALDESC:Events for Motion + Power Manufacturers Alliance™
REFRESH-INTERVAL;VALUE=DURATION:PT1H
X-Robots-Tag:noindex
X-PUBLISHED-TTL:PT1H
BEGIN:VTIMEZONE
TZID:America/New_York
BEGIN:DAYLIGHT
TZOFFSETFROM:-0500
TZOFFSETTO:-0400
TZNAME:EDT
DTSTART:20250309T070000
END:DAYLIGHT
BEGIN:STANDARD
TZOFFSETFROM:-0400
TZOFFSETTO:-0500
TZNAME:EST
DTSTART:20251102T060000
END:STANDARD
BEGIN:DAYLIGHT
TZOFFSETFROM:-0500
TZOFFSETTO:-0400
TZNAME:EDT
DTSTART:20260308T070000
END:DAYLIGHT
BEGIN:STANDARD
TZOFFSETFROM:-0400
TZOFFSETTO:-0500
TZNAME:EST
DTSTART:20261101T060000
END:STANDARD
BEGIN:DAYLIGHT
TZOFFSETFROM:-0500
TZOFFSETTO:-0400
TZNAME:EDT
DTSTART:20270314T070000
END:DAYLIGHT
BEGIN:STANDARD
TZOFFSETFROM:-0400
TZOFFSETTO:-0500
TZNAME:EST
DTSTART:20271107T060000
END:STANDARD
END:VTIMEZONE
BEGIN:VEVENT
DTSTART;TZID=America/New_York:20260506T130000
DTEND;TZID=America/New_York:20260506T140000
DTSTAMP:20260420T194741
CREATED:20260417T205136Z
LAST-MODIFIED:20260420T165336Z
UID:6690-1778072400-1778076000@motionpower.org
SUMMARY:Leveraging AI Tools While Staying CMMC Compliant
DESCRIPTION:2026 ET Webinar Series\n\n\n\nDerrich Phillips | Lead CMMC Certified Assessor & Founder\, Aspire Cyber \n\n\n\nWith over 20 years of cybersecurity experience and roles at Lockheed Martin and Bank of America\, Derrich Phillips is one of the defense industry’s most trusted voices on CMMC compliance. As a Lead CMMC Certified Assessor and founder of the CMMC Professionals Network\, he has guided hundreds of manufacturers and defense contractors through the certification process. \n\n\n\nIn this webinar\, Derrich will cover critical 2026 deadlines — including mandatory third-party assessments launching November 2026 — common compliance gaps in manufacturing environments\, and how to responsibly leverage AI tools without jeopardizing your CMMC certification. Walk away with clear\, actionable steps to protect your DoD contracts and stay audit-ready. \n\n\n\n\nRegister\n\n\n\n\n\n\n\n\nDerrich Phillips\, LCCA\, CMMC PI\, CISSP\, CCSPPresident & Founder As a Lead CMMC Certified Assessor (CCA) and CMMC Provisional Instructor (PI)\, Derrich is on a mission to help organizations get CMMC certified fast without breaking the bank. He is dedicated to transforming complex CMMC compliance into practical\, actionable\, and affordable strategies for organizations.Derrich’s two decades in cybersecurity\, spanning roles as a Cyber Network Defender in the U.S. Army and leadership positions at Lockheed Martin\, Hewlett-Packard Enterprise\, and Bank of America\, have forged his unique approach. He understands the real-world challenges and applies that insight to simplify CMMC.As the Founder and President of Aspire Cyber\, Derrich ensures clients receive step-by-step guidance that minimizes burden and maximizes security.Derrich also established the CMMC Professionals Network (CPN)\, a 501(c)(3) nonprofit dedicated to delivering accessible\, hands-on CMMC training to all\, and hosts the CMMC Proof Podcast. Both initiatives are focused on providing actionable insights that make CMMC compliance more efficient and cost-effective.His goal is to give organizations the clarity and confidence to achieve CMMC certification swiftly\, allowing them to focus on growth\, not just compliance.
URL:https://motionpower.org/event/leveraging-ai-tools-while-staying-cmmc-compliant/
CATEGORIES:Upcoming Emerging Technology Webinars,Upcoming Webinars
END:VEVENT
END:VCALENDAR